BEGIN:VCALENDAR
VERSION:2.0
PRODID:-//cityCURRENT - ECPv6.15.19//NONSGML v1.0//EN
CALSCALE:GREGORIAN
METHOD:PUBLISH
X-ORIGINAL-URL:https://citycurrent.com
X-WR-CALDESC:Events for cityCURRENT
REFRESH-INTERVAL;VALUE=DURATION:PT1H
X-Robots-Tag:noindex
X-PUBLISHED-TTL:PT1H
BEGIN:VTIMEZONE
TZID:America/Chicago
BEGIN:DAYLIGHT
TZOFFSETFROM:-0600
TZOFFSETTO:-0500
TZNAME:CDT
DTSTART:20220313T080000
END:DAYLIGHT
BEGIN:STANDARD
TZOFFSETFROM:-0500
TZOFFSETTO:-0600
TZNAME:CST
DTSTART:20221106T070000
END:STANDARD
BEGIN:DAYLIGHT
TZOFFSETFROM:-0600
TZOFFSETTO:-0500
TZNAME:CDT
DTSTART:20230312T080000
END:DAYLIGHT
BEGIN:STANDARD
TZOFFSETFROM:-0500
TZOFFSETTO:-0600
TZNAME:CST
DTSTART:20231105T070000
END:STANDARD
BEGIN:DAYLIGHT
TZOFFSETFROM:-0600
TZOFFSETTO:-0500
TZNAME:CDT
DTSTART:20240310T080000
END:DAYLIGHT
BEGIN:STANDARD
TZOFFSETFROM:-0500
TZOFFSETTO:-0600
TZNAME:CST
DTSTART:20241103T070000
END:STANDARD
END:VTIMEZONE
BEGIN:VEVENT
DTSTART;TZID=America/Chicago:20230323T173000
DTEND;TZID=America/Chicago:20230323T193000
DTSTAMP:20260419T100557
CREATED:20230315T203443Z
LAST-MODIFIED:20230315T203443Z
UID:12324-1679592600-1679599800@citycurrent.com
SUMMARY:Speaker Reception with Lonnie Mayne
DESCRIPTION:
URL:https://citycurrent.com/event/speaker-reception-with-lonnie-mayne/
LOCATION:Jay & Amy Harvill\, 1592 Glen Ellen Way\, Brentwood\, 37027\, United States
CATEGORIES:NASHVILLE
ORGANIZER;CN="cityCURRENT Nashville":MAILTO:eileenv@citycurrent.com
END:VEVENT
END:VCALENDAR