BEGIN:VCALENDAR
VERSION:2.0
PRODID:-//cityCURRENT - ECPv6.15.19//NONSGML v1.0//EN
CALSCALE:GREGORIAN
METHOD:PUBLISH
X-WR-CALNAME:cityCURRENT
X-ORIGINAL-URL:https://citycurrent.com
X-WR-CALDESC:Events for cityCURRENT
REFRESH-INTERVAL;VALUE=DURATION:PT1H
X-Robots-Tag:noindex
X-PUBLISHED-TTL:PT1H
BEGIN:VTIMEZONE
TZID:America/Chicago
BEGIN:DAYLIGHT
TZOFFSETFROM:-0600
TZOFFSETTO:-0500
TZNAME:CDT
DTSTART:20210314T080000
END:DAYLIGHT
BEGIN:STANDARD
TZOFFSETFROM:-0500
TZOFFSETTO:-0600
TZNAME:CST
DTSTART:20211107T070000
END:STANDARD
BEGIN:DAYLIGHT
TZOFFSETFROM:-0600
TZOFFSETTO:-0500
TZNAME:CDT
DTSTART:20220313T080000
END:DAYLIGHT
BEGIN:STANDARD
TZOFFSETFROM:-0500
TZOFFSETTO:-0600
TZNAME:CST
DTSTART:20221106T070000
END:STANDARD
BEGIN:DAYLIGHT
TZOFFSETFROM:-0600
TZOFFSETTO:-0500
TZNAME:CDT
DTSTART:20230312T080000
END:DAYLIGHT
BEGIN:STANDARD
TZOFFSETFROM:-0500
TZOFFSETTO:-0600
TZNAME:CST
DTSTART:20231105T070000
END:STANDARD
END:VTIMEZONE
BEGIN:VEVENT
DTSTART;TZID=America/Chicago:20220825T113000
DTEND;TZID=America/Chicago:20220825T123000
DTSTAMP:20260425T082056
CREATED:20220720T214048Z
LAST-MODIFIED:20220823T215709Z
UID:9419-1661427000-1661430600@citycurrent.com
SUMMARY:cityCURRENT Non-Profit Tour: Junior Achievement of Middle TN
DESCRIPTION:Join us on Thursday\, August 25 at Junior Achievement of Middle Tennessee\, hosted by Delta Dental of Tennessee\, for a lunch & learn and tour of their facility and BizTown. JA BizTown combines in-class learning with a day-long visit to a simulated town. This popular learning experience allows elementary school students to operate banks\, manage restaurants\, write checks\, and vote for mayor. Students are able to connect the dots between what they learn in school and the real world. \nJunior Achievement’s mission is to inspire and prepare young people to succeed. The inspiration piece comes from community volunteers who not only deliver our lessons\, but share their experience. In the process\, these volunteers serve as role models helping to positively impact young people’s perceptions about the importance of education\, as well as critical life skills. Preparation involves our proven lessons that promote financial capability\, work and career readiness\, and business ownership. \nJunior Achievement’s proven lessons in financial literacy\, work and career readiness\, and entrepreneurship are shown to positively impact the lives of young people. These lessons align with national and state educational standards and are delivered to millions of students across the country with the help of our education partners and volunteers from the local community. \nThere is no cost to attend but you must pre-register.\nLunch will be provide.
URL:https://citycurrent.com/event/citycurrent-non-profit-tour-junior-achievement-of-middle-tn/
LOCATION:Junior Achievement of Middle Tennessee\, Junior Achievement of Middle TN\, 120 Powell Place\, Nashville\, 37204\, United States
CATEGORIES:NASHVILLE
ATTACH;FMTTYPE=image/png:https://citycurrent.com/wp-content/uploads/2022/07/JA-Biz-Town-nonprofit-Tour-e1658413366733.png
END:VEVENT
BEGIN:VEVENT
DTSTART;TZID=America/Chicago:20220818T073000
DTEND;TZID=America/Chicago:20220818T094500
DTSTAMP:20260425T082056
CREATED:20220615T161745Z
LAST-MODIFIED:20220823T220146Z
UID:8939-1660807800-1660815900@citycurrent.com
SUMMARY:DEMO Test SITE: cityCURRENT Signature Breakfast with Lt. Col. Greg Gadson
DESCRIPTION:The link you were given for this site no longer functions. \nPlease CLICK HERE to register for our Aug. 18 Breakfast Event. \nPlease accept our apology for any inconvenience this may or has caused. \nThank you\,\nEileen Vick\, Events Manager\ncityCURRENT| eileenv@citycurrent.com\n615-927-4174
URL:https://citycurrent.com/event/citycurrent-signature-breakfast-with-lt-col-greg-gadson/
LOCATION:Embassy Suites Cool Springs\, 820 Crescent Centre Drive\, Franklin\, 37067\, United States
ORGANIZER;CN="cityCURRENT Nashville":MAILTO:eileenv@citycurrent.com
END:VEVENT
END:VCALENDAR