BEGIN:VCALENDAR
VERSION:2.0
PRODID:-//cityCURRENT - ECPv6.15.19//NONSGML v1.0//EN
CALSCALE:GREGORIAN
METHOD:PUBLISH
X-WR-CALNAME:cityCURRENT
X-ORIGINAL-URL:https://citycurrent.com
X-WR-CALDESC:Events for cityCURRENT
REFRESH-INTERVAL;VALUE=DURATION:PT1H
X-Robots-Tag:noindex
X-PUBLISHED-TTL:PT1H
BEGIN:VTIMEZONE
TZID:America/Chicago
BEGIN:DAYLIGHT
TZOFFSETFROM:-0600
TZOFFSETTO:-0500
TZNAME:CDT
DTSTART:20250309T080000
END:DAYLIGHT
BEGIN:STANDARD
TZOFFSETFROM:-0500
TZOFFSETTO:-0600
TZNAME:CST
DTSTART:20251102T070000
END:STANDARD
BEGIN:DAYLIGHT
TZOFFSETFROM:-0600
TZOFFSETTO:-0500
TZNAME:CDT
DTSTART:20260308T080000
END:DAYLIGHT
BEGIN:STANDARD
TZOFFSETFROM:-0500
TZOFFSETTO:-0600
TZNAME:CST
DTSTART:20261101T070000
END:STANDARD
BEGIN:DAYLIGHT
TZOFFSETFROM:-0600
TZOFFSETTO:-0500
TZNAME:CDT
DTSTART:20270314T080000
END:DAYLIGHT
BEGIN:STANDARD
TZOFFSETFROM:-0500
TZOFFSETTO:-0600
TZNAME:CST
DTSTART:20271107T070000
END:STANDARD
END:VTIMEZONE
BEGIN:VEVENT
DTSTART;TZID=America/Chicago:20260108T083000
DTEND;TZID=America/Chicago:20260108T100000
DTSTAMP:20260423T063255
CREATED:20251020T210903Z
LAST-MODIFIED:20251020T210903Z
UID:20702-1767861000-1767866400@citycurrent.com
SUMMARY:January 8 - Producer Connections
DESCRIPTION:Meet and learn about other Partner companies. Build relationships. Exchange Leads. \nCommunicate a recent client success story or a new product/service. Share your target list to seek connections and help with connecting others. \nBring a list of 10 prospects to see if any of our partners can help you gain access to these companies and individuals. \n\n\n\nTop 10 Prospects\n\n\n\n\n\n\n\nFirst Name\nLast Name\nCompany\nTitle\nIndustry\nWhat makes them a good prospect?\n\n\n\nPlease register to attend.
URL:https://citycurrent.com/event/january-8-producer-connections/
LOCATION:AlphaGraphics Franklin\, 318 Seaboard Ln.\, Suite 402\, Franklin\, TN\, 37067
CATEGORIES:NASHVILLE
ORGANIZER;CN="cityCURRENT Nashville":MAILTO:eileenv@citycurrent.com
END:VEVENT
BEGIN:VEVENT
DTSTART;TZID=America/Chicago:20260113T083000
DTEND;TZID=America/Chicago:20260113T100000
DTSTAMP:20260423T063255
CREATED:20251021T165845Z
LAST-MODIFIED:20251021T165845Z
UID:20720-1768293000-1768298400@citycurrent.com
SUMMARY:January 13 - Executive Roundtable
DESCRIPTION:This group is be made up of cityCURRENT Partner EXECUTIVES. Meet and learn about other Partner companies. Build relationships. Exchange Leads. \nCommunicate a recent client success story or a new product/service. Share your target list to seek connections and help with connecting others. \nPlease register to attend.
URL:https://citycurrent.com/event/january-13-executive-roundtable/
LOCATION:cityCURRENT/Higginbotham Conference Center\, 730 Cool Springs Blvd\, 1st Floor\, Franklin\, TN\, 37067\, United States
CATEGORIES:NASHVILLE
END:VEVENT
BEGIN:VEVENT
DTSTART;TZID=America/Chicago:20260121T083000
DTEND;TZID=America/Chicago:20260121T100000
DTSTAMP:20260423T063255
CREATED:20251021T194418Z
LAST-MODIFIED:20251021T194418Z
UID:20746-1768984200-1768989600@citycurrent.com
SUMMARY:January 21 - Professional Services
DESCRIPTION:Connecting Professionals for Leadership\, Strategy\, and Execution \nThis group brings together cityCURRENT Partners whose core expertise lies in providing services\, specialized knowledge\, and experience to help clients achieve their goals—rather than focusing on manufactured products. Our discussions center on projects\, opportunities\, and the exchange of information and ideas.
URL:https://citycurrent.com/event/january-21-professional-services/
LOCATION:IT Solutions\, 278 Franklin Rd.\, Bldg. 4-Suite 350\, Brentwood\, TN\, 37027
CATEGORIES:NASHVILLE
ORGANIZER;CN="cityCURRENT Nashville":MAILTO:eileenv@citycurrent.com
END:VEVENT
END:VCALENDAR